BEGIN:VCALENDAR
VERSION:2.0
PRODID:http://www.pg-vh.de
BEGIN:VEVENT
UID:f5310391-095b-11f1-8342-0242ac11002b-1779611400000-de
DTSTAMP:20260214T041638Z
DTSTART:20260524T083000Z
DTEND:20260524T093000Z
SUMMARY;LANGUAGE=de: Hochamt musik. gest. vom Kirchenchor
END:VEVENT
END:VCALENDAR
