BEGIN:VCALENDAR
VERSION:2.0
PRODID:http://www.pg-vh.de
BEGIN:VEVENT
UID:bfd82a1b-eea3-11f0-8342-0242ac11002b-1776672000000-de
DTSTAMP:20260111T041231Z
DTSTART:20260420T080000Z
DTEND:20260420T084500Z
SUMMARY;LANGUAGE=de: Hl. Messe mit den Erstkommunionkindern 
END:VEVENT
END:VCALENDAR
