BEGIN:VCALENDAR
VERSION:2.0
PRODID:http://www.pg-vh.de
BEGIN:VEVENT
UID:5ba2523c-19dc-11f1-8342-0242ac11002b-1781425800000-de
DTSTAMP:20260307T041604Z
DTSTART:20260614T083000Z
DTEND:20260614T093000Z
SUMMARY;LANGUAGE=de: Hochamt mit Abt Mauritius (Maria Laach)
END:VEVENT
END:VCALENDAR
