BEGIN:VCALENDAR
VERSION:2.0
PRODID:http://www.pg-vh.de
BEGIN:VEVENT
UID:5b45b7fc-fe5b-11f0-8342-0242ac11002b-1778425200000-de
DTSTAMP:20260131T041437Z
DTSTART:20260510T150000Z
DTEND:20260510T160000Z
SUMMARY;LANGUAGE=de: Prozession zur Ringkapelle (Treffpunkt am Schützenhaus) 
END:VEVENT
END:VCALENDAR
