BEGIN:VCALENDAR
VERSION:2.0
PRODID:http://www.pg-vh.de
BEGIN:VEVENT
UID:452a2fd8-3f8c-11f1-a3e9-0242ac11002b-1779895800000-de
DTSTAMP:20260424T031831Z
DTSTART:20260527T153000Z
DTEND:20260527T173000Z
SUMMARY;LANGUAGE=de: Abendspaziergang mit Impulsen ab Stephanuskirche
END:VEVENT
END:VCALENDAR
