BEGIN:VCALENDAR
VERSION:2.0
PRODID:http://www.pg-vh.de
BEGIN:VEVENT
UID:450039a5-3f8c-11f1-a3e9-0242ac11002b-1780750800000-de
DTSTAMP:20260424T031831Z
DTSTART:20260606T130000Z
DTEND:20260606T140000Z
SUMMARY;LANGUAGE=de: Gelegenheit zu Beichte & Beichtgespräch (Pfr. Adams) bis ca. 16:00 Uhr
END:VEVENT
END:VCALENDAR
